BEGIN:VCALENDAR
VERSION:2.0
PRODID:-//Plone.org//NONSGML plone.app.event//EN
X-WR-TIMEZONE:Europe/Madrid
BEGIN:VEVENT
SUMMARY:Obrim el 3r FEFANET - Xaranga Màgic
DTSTART;TZID=Europe/Madrid;VALUE=DATE-TIME:20260508T184500
DTEND;TZID=Europe/Madrid;VALUE=DATE-TIME:20260508T194500
DTSTAMP;VALUE=DATE-TIME:20260424T202445Z
UID:32279caec10ffc964295192787b8c89b
CREATED;VALUE=DATE-TIME:20260508T000000Z
CATEGORIES:Festa,Infantils
LOCATION:Plaça 1 d'Octubre
ORGANIZER:El Centru
DESCRIPTION:FEFANET 2026
URL:https://www.canetdemar.cat/document.php?id=29309
END:VEVENT
END:VCALENDAR