BEGIN:VCALENDAR
VERSION:2.0
PRODID:-//Plone.org//NONSGML plone.app.event//EN
X-WR-TIMEZONE:Europe/Madrid
BEGIN:VEVENT
SUMMARY:Anada al teatre.
DTSTART;TZID=Europe/Madrid;VALUE=DATE-TIME:20260516T160000
DTEND;TZID=Europe/Madrid;VALUE=DATE-TIME:20260516T170000
DTSTAMP;VALUE=DATE-TIME:20260423T235643Z
UID:ef41ba329bbcf1a7a58e2a5bdaa8ff9f
CREATED;VALUE=DATE-TIME:20260516T000000Z
CATEGORIES:Teatre
LOCATION:Sortida parada de bus Comediants
ORGANIZER:Salvia Associació de Dones
COMMENT:Preu: 37 &euro;
Durada: 3 hores aproximadament
DESCRIPTION:Espectacle "BONA GENT" al teatre Borràs
URL:https://www.canetdemar.cat/document.php?id=29300
END:VEVENT
END:VCALENDAR