BEGIN:VCALENDAR
VERSION:2.0
PRODID:-//Plone.org//NONSGML plone.app.event//EN
X-WR-TIMEZONE:Europe/Madrid
BEGIN:VEVENT
SUMMARY:Cinema alternatiu: El ilusionista
DTSTART;TZID=Europe/Madrid;VALUE=DATE-TIME:20070316T220000
DTEND;TZID=Europe/Madrid;VALUE=DATE-TIME:20070316T230000
DTSTAMP;VALUE=DATE-TIME:20260420T104029Z
UID:3d7cb00ca506f66d976e45cfb00314ce
CREATED;VALUE=DATE-TIME:20070316T000000Z
LOCATION:Envelat de Vil·la Flora
ORGANIZER:
ACPO

COMMENT:Preu: 3,50 euros socis / 4,50 euros no socis
URL:https://www.canetdemar.cat/document.php?id=2930
END:VEVENT
END:VCALENDAR