BEGIN:VCALENDAR
VERSION:2.0
PRODID:-//Plone.org//NONSGML plone.app.event//EN
X-WR-TIMEZONE:Europe/Madrid
BEGIN:VEVENT
SUMMARY:Sant Jordi: àgora de contes i llegendes
DTSTART;TZID=Europe/Madrid;VALUE=DATE-TIME:20260423T094500
DTEND;TZID=Europe/Madrid;VALUE=DATE-TIME:20260423T104500
DTSTAMP;VALUE=DATE-TIME:20260422T075748Z
UID:13bf128a9cbca304baebccddfba64973
CREATED;VALUE=DATE-TIME:20260423T000000Z
LOCATION:Pati de la Casa museu Lluís Domènech i Montaner
ORGANIZER:Plataforma per la Llengua
COMMENT:Durada: de 9.45 a 13.00 hores
URL:https://www.canetdemar.cat/document.php?id=29297
END:VEVENT
END:VCALENDAR