BEGIN:VCALENDAR
VERSION:2.0
PRODID:-//Plone.org//NONSGML plone.app.event//EN
X-WR-TIMEZONE:Europe/Madrid
BEGIN:VEVENT
SUMMARY:Club de lectura
DTSTART;TZID=Europe/Madrid;VALUE=DATE-TIME:20070316T190000
DTEND;TZID=Europe/Madrid;VALUE=DATE-TIME:20070316T200000
DTSTAMP;VALUE=DATE-TIME:20260420T085846Z
UID:0c6b11d900c8f2d4214cb3a9ea8ca304
CREATED;VALUE=DATE-TIME:20070316T000000Z
LOCATION:Biblioteca
DESCRIPTION:Comentarem el llibre La noia de la perla
URL:https://www.canetdemar.cat/document.php?id=2929
END:VEVENT
END:VCALENDAR