BEGIN:VCALENDAR
VERSION:2.0
PRODID:-//Plone.org//NONSGML plone.app.event//EN
X-WR-TIMEZONE:Europe/Madrid
BEGIN:VEVENT
SUMMARY:Conferència sobre nutrició: Sabem què mengem?
DTSTART;TZID=Europe/Madrid;VALUE=DATE-TIME:20070314T190000
DTEND;TZID=Europe/Madrid;VALUE=DATE-TIME:20070314T200000
DTSTAMP;VALUE=DATE-TIME:20260420T103822Z
UID:cc4478d65b2fc1dfe19871631819c935
CREATED;VALUE=DATE-TIME:20070314T000000Z
LOCATION:Aula Magna Escola Universitària de Teixits de Punt
ORGANIZER:Sàlvia, associació de dones
COMMENT:Preu: entrada gratuïta
URL:https://www.canetdemar.cat/document.php?id=2928
END:VEVENT
END:VCALENDAR