BEGIN:VCALENDAR
VERSION:2.0
PRODID:-//Plone.org//NONSGML plone.app.event//EN
X-WR-TIMEZONE:Europe/Madrid
BEGIN:VEVENT
SUMMARY:Avui llegim! amb l'Imma de la Biblioteca
DTSTART;TZID=Europe/Madrid;VALUE=DATE-TIME:20260513T183000
DTEND;TZID=Europe/Madrid;VALUE=DATE-TIME:20260513T193000
DTSTAMP;VALUE=DATE-TIME:20260424T134639Z
UID:6aa47c8181149b802c696d16eb6ec176
CREATED;VALUE=DATE-TIME:20260513T000000Z
CATEGORIES:Infantils
LOCATION:Biblioteca P. Gual i Pujadas
ORGANIZER:Biblioteca P. Gual i Pujadas
COMMENT:Preu: Gratuït
DESCRIPTION:Un Regal ideal per a la Faisana Feliciana de Briony May Smith
URL:https://www.canetdemar.cat/document.php?id=29275
END:VEVENT
END:VCALENDAR