BEGIN:VCALENDAR
VERSION:2.0
PRODID:-//Plone.org//NONSGML plone.app.event//EN
X-WR-TIMEZONE:Europe/Madrid
BEGIN:VEVENT
SUMMARY:Club de Lectura Molteslletres. Gomet vermell
DTSTART;TZID=Europe/Madrid;VALUE=DATE-TIME:20260512T173000
DTEND;TZID=Europe/Madrid;VALUE=DATE-TIME:20260512T183000
DTSTAMP;VALUE=DATE-TIME:20260423T134728Z
UID:a06fe9131449df8a3d8d78d89f082e1b
CREATED;VALUE=DATE-TIME:20260512T000000Z
CATEGORIES:Infantils
LOCATION:Biblioteca P. Gual i Pujadas
ORGANIZER:Biblioteca P. Gual i Pujadas
COMMENT:Preu: Gratuït
DESCRIPTION:Earhart : l'increïble vol al voltant del món d'una talponeta de Torben Kuhlmann
URL:https://www.canetdemar.cat/document.php?id=29274
END:VEVENT
END:VCALENDAR