BEGIN:VCALENDAR
VERSION:2.0
PRODID:-//Plone.org//NONSGML plone.app.event//EN
X-WR-TIMEZONE:Europe/Madrid
BEGIN:VEVENT
SUMMARY:Torneig de petanca
DTSTART;TZID=Europe/Madrid;VALUE=DATE-TIME:20070303T160000
DTEND;TZID=Europe/Madrid;VALUE=DATE-TIME:20070303T170000
DTSTAMP;VALUE=DATE-TIME:20260422T202444Z
UID:6050b0626753e15361b2b83a24b6a84f
CREATED;VALUE=DATE-TIME:20070303T000000Z
CATEGORIES:Esports
LOCATION:Pistes Club Botxes (Costat Tanatori)
ORGANIZER:Club Botxes Canet
COMMENT:Preu: 7 &euro; per equip
DESCRIPTION:Dupletes formades
URL:https://www.canetdemar.cat/document.php?id=2927
END:VEVENT
END:VCALENDAR