BEGIN:VCALENDAR
VERSION:2.0
PRODID:-//Plone.org//NONSGML plone.app.event//EN
X-WR-TIMEZONE:Europe/Madrid
BEGIN:VEVENT
SUMMARY:La meva mare i jo, com ens afecta aquest vincle
DTSTART;TZID=Europe/Madrid;VALUE=DATE-TIME:20260424T180000
DTEND;TZID=Europe/Madrid;VALUE=DATE-TIME:20260424T190000
DTSTAMP;VALUE=DATE-TIME:20260423T071918Z
UID:941fa2ea49f23bbe6d201a88a6511490
CREATED;VALUE=DATE-TIME:20260424T000000Z
LOCATION:Biblioteca P. Gual i Pujadas
ORGANIZER:Biblioteca P. Gual i Pujadas
COMMENT:Preu: Gratuït
DESCRIPTION:Xerrada a càrrec d'Yvonne Laborda
URL:https://www.canetdemar.cat/document.php?id=29269
END:VEVENT
END:VCALENDAR