BEGIN:VCALENDAR
VERSION:2.0
PRODID:-//Plone.org//NONSGML plone.app.event//EN
X-WR-TIMEZONE:Europe/Madrid
BEGIN:VEVENT
SUMMARY:Microteatre
DTSTART;TZID=Europe/Madrid;VALUE=DATE-TIME:20260411T180000
DTEND;TZID=Europe/Madrid;VALUE=DATE-TIME:20260411T190000
DTSTAMP;VALUE=DATE-TIME:20260421T144048Z
UID:838f5dce452c1a0590ab055a1b37ded1
CREATED;VALUE=DATE-TIME:20260411T000000Z
CATEGORIES:Teatre
LOCATION:Sala Centru del TMC - Plaça de l'Església
ORGANIZER:Associació Canet Cultural
COMMENT:Preu: 8 euros
URL:https://www.canetdemar.cat/document.php?id=29262
END:VEVENT
END:VCALENDAR