BEGIN:VCALENDAR
VERSION:2.0
PRODID:-//Plone.org//NONSGML plone.app.event//EN
X-WR-TIMEZONE:Europe/Madrid
BEGIN:VEVENT
SUMMARY:Tarda de ball a l'envelat
DTSTART;TZID=Europe/Madrid;VALUE=DATE-TIME:20070311T190000
DTEND;TZID=Europe/Madrid;VALUE=DATE-TIME:20070311T200000
DTSTAMP;VALUE=DATE-TIME:20260420T091357Z
UID:dc174bb7aa551960d1c855f229c2d9ab
CREATED;VALUE=DATE-TIME:20070311T000000Z
LOCATION:Envelat de Vil·la Flora
ORGANIZER:Amics del ball
COMMENT:Preu: 3 euros
URL:https://www.canetdemar.cat/document.php?id=2926
END:VEVENT
END:VCALENDAR