BEGIN:VCALENDAR
VERSION:2.0
PRODID:-//Plone.org//NONSGML plone.app.event//EN
X-WR-TIMEZONE:Europe/Madrid
BEGIN:VEVENT
SUMMARY:Berenar i ball a l'envelat
DTSTART;TZID=Europe/Madrid;VALUE=DATE-TIME:20070310T180000
DTEND;TZID=Europe/Madrid;VALUE=DATE-TIME:20070310T190000
DTSTAMP;VALUE=DATE-TIME:20260420T091259Z
UID:1025b5b80958088771ed09baf2f25045
CREATED;VALUE=DATE-TIME:20070310T000000Z
LOCATION:Envelat de Vil·la Flora
ORGANIZER:Sàlvia, associació de dones
DESCRIPTION:Dins els actes de celebració del dia internacional de la dona
URL:https://www.canetdemar.cat/document.php?id=2925
END:VEVENT
END:VCALENDAR