BEGIN:VCALENDAR
VERSION:2.0
PRODID:-//Plone.org//NONSGML plone.app.event//EN
X-WR-TIMEZONE:Europe/Madrid
BEGIN:VEVENT
SUMMARY:L'hora del conte
DTSTART;TZID=Europe/Madrid;VALUE=DATE-TIME:20070310T120000
DTEND;TZID=Europe/Madrid;VALUE=DATE-TIME:20070310T130000
DTSTAMP;VALUE=DATE-TIME:20260420T071933Z
UID:eff7347ab1c715203f2051448408d9ea
CREATED;VALUE=DATE-TIME:20070310T000000Z
LOCATION:Biblioteca
DESCRIPTION:Amb Elena Catalán
URL:https://www.canetdemar.cat/document.php?id=2923
END:VEVENT
END:VCALENDAR