BEGIN:VCALENDAR
VERSION:2.0
PRODID:-//Plone.org//NONSGML plone.app.event//EN
X-WR-TIMEZONE:Europe/Madrid
BEGIN:VEVENT
SUMMARY:Celebració del dia internacional de la dona
DTSTART;TZID=Europe/Madrid;VALUE=DATE-TIME:20070308T183000
DTEND;TZID=Europe/Madrid;VALUE=DATE-TIME:20070308T193000
DTSTAMP;VALUE=DATE-TIME:20260420T074938Z
UID:2e12d0aba81d30ac2247ee9bc90f4b6c
CREATED;VALUE=DATE-TIME:20070308T000000Z
DESCRIPTION:cercavila, manifest  i missa
URL:https://www.canetdemar.cat/document.php?id=2922
END:VEVENT
END:VCALENDAR