BEGIN:VCALENDAR
VERSION:2.0
PRODID:-//Plone.org//NONSGML plone.app.event//EN
X-WR-TIMEZONE:Europe/Madrid
BEGIN:VEVENT
SUMMARY:Tarda de ball a l'envelat
DTSTART;TZID=Europe/Madrid;VALUE=DATE-TIME:20070304T190000
DTEND;TZID=Europe/Madrid;VALUE=DATE-TIME:20070304T200000
DTSTAMP;VALUE=DATE-TIME:20260420T054412Z
UID:8cce1da85033b69e613a80010efa4c13
CREATED;VALUE=DATE-TIME:20070304T000000Z
LOCATION:Envelat de Vil·la Flora
ORGANIZER:Amics del ball
COMMENT:Preu: 3 euros
URL:https://www.canetdemar.cat/document.php?id=2921
END:VEVENT
END:VCALENDAR