BEGIN:VCALENDAR
VERSION:2.0
PRODID:-//Plone.org//NONSGML plone.app.event//EN
X-WR-TIMEZONE:Europe/Madrid
BEGIN:VEVENT
SUMMARY:Teatre: Cargols per sopar
DTSTART;TZID=Europe/Madrid;VALUE=DATE-TIME:20070311T181500
DTEND;TZID=Europe/Madrid;VALUE=DATE-TIME:20070311T191500
DTSTAMP;VALUE=DATE-TIME:20260420T091244Z
UID:9fddef708df82c8ba923095d7ab1d5df
CREATED;VALUE=DATE-TIME:20070311T000000Z
CATEGORIES:Teatre
LOCATION:Centre parroquial
DESCRIPTION:XXXIII concurs de teatre Pedracastell
URL:https://www.canetdemar.cat/document.php?id=2919
END:VEVENT
END:VCALENDAR