BEGIN:VCALENDAR
VERSION:2.0
PRODID:-//Plone.org//NONSGML plone.app.event//EN
X-WR-TIMEZONE:Europe/Madrid
BEGIN:VEVENT
SUMMARY:Teatre: No és tan fàcil
DTSTART;TZID=Europe/Madrid;VALUE=DATE-TIME:20070304T181500
DTEND;TZID=Europe/Madrid;VALUE=DATE-TIME:20070304T191500
DTSTAMP;VALUE=DATE-TIME:20260420T035931Z
UID:34ec37339766d750767c4306bcf400c3
CREATED;VALUE=DATE-TIME:20070304T000000Z
CATEGORIES:Teatre
LOCATION:Centre parroquial
DESCRIPTION:XXXIII concurs de teatre Pedracastell
URL:https://www.canetdemar.cat/document.php?id=2918
END:VEVENT
END:VCALENDAR