BEGIN:VCALENDAR
VERSION:2.0
PRODID:-//Plone.org//NONSGML plone.app.event//EN
X-WR-TIMEZONE:Europe/Madrid
BEGIN:VEVENT
SUMMARY:Descoberta dels rials: Rial del Poll Roig - Rial del Gel
DTSTART;TZID=Europe/Madrid;VALUE=DATE-TIME:20070304T100000
DTEND;TZID=Europe/Madrid;VALUE=DATE-TIME:20070304T110000
DTSTAMP;VALUE=DATE-TIME:20260423T071311Z
UID:6cbadb7ddcc932cd9685f8211ffb8c59
CREATED;VALUE=DATE-TIME:20070304T000000Z
URL:https://www.canetdemar.cat/document.php?id=2917
END:VEVENT
END:VCALENDAR