BEGIN:VCALENDAR
VERSION:2.0
PRODID:-//Plone.org//NONSGML plone.app.event//EN
X-WR-TIMEZONE:Europe/Madrid
BEGIN:VEVENT
SUMMARY:El documental del mes: Sisters in law
DTSTART;TZID=Europe/Madrid;VALUE=DATE-TIME:20070302T213000
DTEND;TZID=Europe/Madrid;VALUE=DATE-TIME:20070302T223000
DTSTAMP;VALUE=DATE-TIME:20260423T103841Z
UID:2b8542332f2fc3c19a02566895f30bca
CREATED;VALUE=DATE-TIME:20070302T000000Z
LOCATION:Aula Magna Escola Universitària de Teixits de Punt
ORGANIZER:
ACPO

COMMENT:Preu: entrada gratuïta
DESCRIPTION:Fòrum Odèon
URL:https://www.canetdemar.cat/document.php?id=2915
END:VEVENT
END:VCALENDAR