BEGIN:VCALENDAR
VERSION:2.0
PRODID:-//Plone.org//NONSGML plone.app.event//EN
X-WR-TIMEZONE:Europe/Madrid
BEGIN:VEVENT
SUMMARY:Teatre:  &OpenCurlyDoubleQuote;Roig. Homenatge a Montserrat Roig&CloseCurlyDoubleQuote;
DTSTART;TZID=Europe/Madrid;VALUE=DATE-TIME:20260321T200000
DTEND;TZID=Europe/Madrid;VALUE=DATE-TIME:20260321T210000
DTSTAMP;VALUE=DATE-TIME:20260424T040404Z
UID:2ee15a033cdeb7e8ca07a57fad8b989e
CREATED;VALUE=DATE-TIME:20260321T000000Z
CATEGORIES:Literatura,Teatre
LOCATION:Sala Centru del TMC - Plaça de l'Església
DESCRIPTION:MOLTESLLETRES - Montserrat Roig
URL:https://www.canetdemar.cat/document.php?id=29052
END:VEVENT
END:VCALENDAR