BEGIN:VCALENDAR
VERSION:2.0
PRODID:-//Plone.org//NONSGML plone.app.event//EN
X-WR-TIMEZONE:Europe/Madrid
BEGIN:VEVENT
SUMMARY:Tertúlia:  &OpenCurlyDoubleQuote;Dues veus contra l'oblit de l'horror nazi: Neus Català i Montserrat Roig&CloseCurlyDoubleQuote;
DTSTART;TZID=Europe/Madrid;VALUE=DATE-TIME:20260321T180000
DTEND;TZID=Europe/Madrid;VALUE=DATE-TIME:20260321T190000
DTSTAMP;VALUE=DATE-TIME:20260424T040419Z
UID:b7e8ef1df7e1f6223a169bbf33c06db0
CREATED;VALUE=DATE-TIME:20260321T000000Z
CATEGORIES:Literatura
LOCATION:Sala Odèon del TMC - Plaça 1 d'octubre
DESCRIPTION:MARDELLETRES - Montserrat Roig
URL:https://www.canetdemar.cat/document.php?id=29048
END:VEVENT
END:VCALENDAR