BEGIN:VCALENDAR
VERSION:2.0
PRODID:-//Plone.org//NONSGML plone.app.event//EN
X-WR-TIMEZONE:Europe/Madrid
BEGIN:VEVENT
SUMMARY:El regal més bonic del món de Mireia Olivé
DTSTART;TZID=Europe/Madrid;VALUE=DATE-TIME:20260320T173000
DTEND;TZID=Europe/Madrid;VALUE=DATE-TIME:20260320T183000
DTSTAMP;VALUE=DATE-TIME:20260424T005142Z
UID:855723c8a8e7927264534cd95b91ce7c
CREATED;VALUE=DATE-TIME:20260320T000000Z
CATEGORIES:Infantils
LOCATION:Biblioteca P. Gual i Pujadas
ORGANIZER:Biblioteca P. Gual i Pujadas
COMMENT:Preu: Gratuït
DESCRIPTION:Lectura en veu alta per a infants
URL:https://www.canetdemar.cat/document.php?id=29044
END:VEVENT
END:VCALENDAR