BEGIN:VCALENDAR
VERSION:2.0
PRODID:-//Plone.org//NONSGML plone.app.event//EN
X-WR-TIMEZONE:Europe/Madrid
BEGIN:VEVENT
SUMMARY:Èdip & Antígona de Carlota Subirós
DTSTART;TZID=Europe/Madrid;VALUE=DATE-TIME:20260319T163000
DTEND;TZID=Europe/Madrid;VALUE=DATE-TIME:20260319T173000
DTSTAMP;VALUE=DATE-TIME:20260425T192823Z
UID:339649e0ad2f761e97a3f785331ae49e
CREATED;VALUE=DATE-TIME:20260319T000000Z
CATEGORIES:Teatre
LOCATION:Sala Odèon del TMC - Plaça 1 d'octubre
ORGANIZER:Biblioteca P. Gual i Pujadas
COMMENT:Preu: Gratuït
DESCRIPTION:Llegir el teatre
URL:https://www.canetdemar.cat/document.php?id=29018
END:VEVENT
END:VCALENDAR