BEGIN:VCALENDAR
VERSION:2.0
PRODID:-//Plone.org//NONSGML plone.app.event//EN
X-WR-TIMEZONE:Europe/Madrid
BEGIN:VEVENT
SUMMARY:Anàlisi de la Capella Sixtina per Antonio Casado
DTSTART;TZID=Europe/Madrid;VALUE=DATE-TIME:20070317T200000
DTEND;TZID=Europe/Madrid;VALUE=DATE-TIME:20070317T210000
DTSTAMP;VALUE=DATE-TIME:20260420T103842Z
UID:dc3dc45f09709a0b9e4360604991d9a9
CREATED;VALUE=DATE-TIME:20070317T000000Z
CATEGORIES:Conferència
LOCATION:Centre CuraSana (C/ Mercat 14)
ORGANIZER:CuraSana
COMMENT:Preu: activitat gratuïta
DESCRIPTION:Nova lectura de l'obra per accedir als missatges que conté
URL:https://www.canetdemar.cat/document.php?id=2900
END:VEVENT
END:VCALENDAR