BEGIN:VCALENDAR
VERSION:2.0
PRODID:-//Plone.org//NONSGML plone.app.event//EN
X-WR-TIMEZONE:Europe/Madrid
BEGIN:VEVENT
SUMMARY:16a edició del Concurs de Cuita de Cargols
DTSTART;TZID=Europe/Madrid;VALUE=DATE-TIME:20020911T180000
DTEND;TZID=Europe/Madrid;VALUE=DATE-TIME:20020911T190000
DTSTAMP;VALUE=DATE-TIME:20260424T225503Z
UID:77daf31e17bd7e6999bc9bacf2bde7f6
CREATED;VALUE=DATE-TIME:20020911T000000Z
URL:https://www.canetdemar.cat/document.php?id=29
END:VEVENT
END:VCALENDAR