BEGIN:VCALENDAR
VERSION:2.0
PRODID:-//Plone.org//NONSGML plone.app.event//EN
X-WR-TIMEZONE:Europe/Madrid
BEGIN:VEVENT
SUMMARY:Xerrada d'Astrologia amb Carme Durich
DTSTART;TZID=Europe/Madrid;VALUE=DATE-TIME:20070331T200000
DTEND;TZID=Europe/Madrid;VALUE=DATE-TIME:20070331T210000
DTSTAMP;VALUE=DATE-TIME:20260420T151045Z
UID:0366f236c0c7c71e077864ccbe3b24e2
CREATED;VALUE=DATE-TIME:20070331T000000Z
CATEGORIES:Conferència
LOCATION:Centre CuraSana (C/ Mercat 14)
ORGANIZER:CuraSana
COMMENT:Preu: activitat gratuïta
Durada: 1h. 30 min.
DESCRIPTION:El Signe d'Àries i l'Equinocci de Primavera
URL:https://www.canetdemar.cat/document.php?id=2899
END:VEVENT
END:VCALENDAR