BEGIN:VCALENDAR
VERSION:2.0
PRODID:-//Plone.org//NONSGML plone.app.event//EN
X-WR-TIMEZONE:Europe/Madrid
BEGIN:VEVENT
SUMMARY:Portes obertes a l'Escola FEDAC Canet Yglesias - Descobreix l'escola
DTSTART;TZID=Europe/Madrid;VALUE=DATE-TIME:20260303T151500
DTEND;TZID=Europe/Madrid;VALUE=DATE-TIME:20260303T161500
DTSTAMP;VALUE=DATE-TIME:20260424T220210Z
UID:5c81e26d1551c455427cf9e88ed067a8
CREATED;VALUE=DATE-TIME:20260303T000000Z
COMMENT:Durada: De 15.15 a 16.30 hores
URL:https://www.canetdemar.cat/document.php?id=28988
END:VEVENT
END:VCALENDAR