BEGIN:VCALENDAR
VERSION:2.0
PRODID:-//Plone.org//NONSGML plone.app.event//EN
X-WR-TIMEZONE:Europe/Madrid
BEGIN:VEVENT
SUMMARY:Portes obertes d'ambientals a infantil del Turó del Drac
DTSTART;TZID=Europe/Madrid;VALUE=DATE-TIME:20260301T103000
DTEND;TZID=Europe/Madrid;VALUE=DATE-TIME:20260301T113000
DTSTAMP;VALUE=DATE-TIME:20260426T051212Z
UID:cb6fecdb357a4bb79b7f724682187bff
CREATED;VALUE=DATE-TIME:20260301T000000Z
COMMENT:Durada: De 10.30 a 13.00 hores
URL:https://www.canetdemar.cat/document.php?id=28986
END:VEVENT
END:VCALENDAR