BEGIN:VCALENDAR
VERSION:2.0
PRODID:-//Plone.org//NONSGML plone.app.event//EN
X-WR-TIMEZONE:Europe/Madrid
BEGIN:VEVENT
SUMMARY:Portes obertes a l'Escola FEDAC Canet Yglesias
DTSTART;TZID=Europe/Madrid;VALUE=DATE-TIME:20260228T103000
DTEND;TZID=Europe/Madrid;VALUE=DATE-TIME:20260228T113000
DTSTAMP;VALUE=DATE-TIME:20260423T064303Z
UID:6656008d66ae68c5ae301bda70f7dfbb
CREATED;VALUE=DATE-TIME:20260228T000000Z
COMMENT:Durada: De 10.30 a 13.00 hores
URL:https://www.canetdemar.cat/document.php?id=28985
END:VEVENT
END:VCALENDAR