BEGIN:VCALENDAR
VERSION:2.0
PRODID:-//Plone.org//NONSGML plone.app.event//EN
X-WR-TIMEZONE:Europe/Madrid
BEGIN:VEVENT
SUMMARY:CINEMA
DTSTART;TZID=Europe/Madrid;VALUE=DATE-TIME:20260313T200000
DTEND;TZID=Europe/Madrid;VALUE=DATE-TIME:20260313T210000
DTSTAMP;VALUE=DATE-TIME:20260424T175603Z
UID:4c8eb60aadedb019e7ea72d9aedbbf18
CREATED;VALUE=DATE-TIME:20260313T000000Z
CATEGORIES:Cinema
LOCATION:Sala Centru del TMC - Plaça de l'Església
ORGANIZER:TMC i &#145;Onada Cine Club
COMMENT:Preu: Entrada gratuïta a Entràpolis
Durada: 105 minuts
DESCRIPTION:Un simple accidente
URL:https://www.canetdemar.cat/document.php?id=28962
END:VEVENT
END:VCALENDAR