BEGIN:VCALENDAR
VERSION:2.0
PRODID:-//Plone.org//NONSGML plone.app.event//EN
X-WR-TIMEZONE:Europe/Madrid
BEGIN:VEVENT
SUMMARY:Presentació a Canet del llibre de Ramon Erra "Quan érem irlandesos"
DTSTART;TZID=Europe/Madrid;VALUE=DATE-TIME:20260311T190000
DTEND;TZID=Europe/Madrid;VALUE=DATE-TIME:20260311T200000
DTSTAMP;VALUE=DATE-TIME:20260425T141629Z
UID:39fb15226de5906f13370da4b3bf97f0
CREATED;VALUE=DATE-TIME:20260311T000000Z
CATEGORIES:Literatura
LOCATION:Sala Odèon del TMC - Plaça 1 d'octubre
ORGANIZER:Vocalia Odeon lletres de l'ACPO
COMMENT:Preu: entrada lliure
Durada: de 19 a 20h aproximadament
DESCRIPTION:Amb la presència de l'autor
URL:https://www.canetdemar.cat/document.php?id=28938
END:VEVENT
END:VCALENDAR