BEGIN:VCALENDAR
VERSION:2.0
PRODID:-//Plone.org//NONSGML plone.app.event//EN
X-WR-TIMEZONE:Europe/Madrid
BEGIN:VEVENT
SUMMARY:III Marxa Atlètica Jordi Llopart
DTSTART;TZID=Europe/Madrid;VALUE=DATE-TIME:20260201T100000
DTEND;TZID=Europe/Madrid;VALUE=DATE-TIME:20260201T110000
DTSTAMP;VALUE=DATE-TIME:20260423T053414Z
UID:6e9e1913a1a949b12119b50d0a8ff887
CREATED;VALUE=DATE-TIME:20260201T000000Z
LOCATION:Ronda Doctor Anglès
URL:https://www.canetdemar.cat/document.php?id=28934
END:VEVENT
END:VCALENDAR