BEGIN:VCALENDAR
VERSION:2.0
PRODID:-//Plone.org//NONSGML plone.app.event//EN
X-WR-TIMEZONE:Europe/Madrid
BEGIN:VEVENT
SUMMARY:Donació de sang
DTSTART;TZID=Europe/Madrid;VALUE=DATE-TIME:20070210T170000
DTEND;TZID=Europe/Madrid;VALUE=DATE-TIME:20070210T180000
DTSTAMP;VALUE=DATE-TIME:20260424T115231Z
UID:a64dec4244f47d0f7d4c790303a1fb4e
CREATED;VALUE=DATE-TIME:20070210T000000Z
LOCATION:local de Creu Roja (Pas d'en Marges, 8)
ORGANIZER:Creu Roja
COMMENT:Durada: dissabte, 10 de febrer, de 5 a 9 de la tarda i diumenge, 11 de febrer, de 10 a 2 del migdia
URL:https://www.canetdemar.cat/document.php?id=2892
END:VEVENT
END:VCALENDAR