BEGIN:VCALENDAR
VERSION:2.0
PRODID:-//Plone.org//NONSGML plone.app.event//EN
X-WR-TIMEZONE:Europe/Madrid
BEGIN:VEVENT
SUMMARY:Exposició d'Assumpta Roig Jover
DTSTART;TZID=Europe/Madrid;VALUE=DATE-TIME:20260221T000000
DTEND;TZID=Europe/Madrid;VALUE=DATE-TIME:20260221T010000
DTSTAMP;VALUE=DATE-TIME:20260424T050632Z
UID:5c5c026cbb6aee64747465351d68b0fa
CREATED;VALUE=DATE-TIME:20260213T000000Z
CATEGORIES:Exposició
LOCATION:Sala Cultural Ramon de Capmany
COMMENT:Durada: De dilluns a diumenge de 11h a 13 h i de 17'30 a 20h
DESCRIPTION:Moments atrapats
URL:https://www.canetdemar.cat/document.php?id=28889
END:VEVENT
END:VCALENDAR