BEGIN:VCALENDAR
VERSION:2.0
PRODID:-//Plone.org//NONSGML plone.app.event//EN
X-WR-TIMEZONE:Europe/Madrid
BEGIN:VEVENT
SUMMARY:Reunió amb un veí de Canet
DTSTART;TZID=Europe/Madrid;VALUE=DATE-TIME:20260107T100000
DTEND;TZID=Europe/Madrid;VALUE=DATE-TIME:20260107T110000
DTSTAMP;VALUE=DATE-TIME:20260420T020417Z
UID:6353fcb8525a575e89c565c6357b7e05
CREATED;VALUE=DATE-TIME:20260107T000000Z
CATEGORIES:Agenda institucional
LOCATION:Despatx de l'alcaldia
URL:https://www.canetdemar.cat/document.php?id=28887
END:VEVENT
END:VCALENDAR