BEGIN:VCALENDAR
VERSION:2.0
PRODID:-//Plone.org//NONSGML plone.app.event//EN
X-WR-TIMEZONE:Europe/Madrid
BEGIN:VEVENT
SUMMARY:Assistència a la cavalcada de Reis de Canet i acte d'entrega de la clau de la vila
DTSTART;TZID=Europe/Madrid;VALUE=DATE-TIME:20260105T180000
DTEND;TZID=Europe/Madrid;VALUE=DATE-TIME:20260105T190000
DTSTAMP;VALUE=DATE-TIME:20260421T150836Z
UID:9c058bb58ab978041159989556e25646
CREATED;VALUE=DATE-TIME:20260105T000000Z
CATEGORIES:Agenda institucional
LOCATION:Ajuntament de Canet de Mar
URL:https://www.canetdemar.cat/document.php?id=28886
END:VEVENT
END:VCALENDAR