BEGIN:VCALENDAR
VERSION:2.0
PRODID:-//Plone.org//NONSGML plone.app.event//EN
X-WR-TIMEZONE:Europe/Madrid
BEGIN:VEVENT
SUMMARY:Junta de Govern Local
DTSTART;TZID=Europe/Madrid;VALUE=DATE-TIME:20251230T170000
DTEND;TZID=Europe/Madrid;VALUE=DATE-TIME:20251230T180000
DTSTAMP;VALUE=DATE-TIME:20260421T150809Z
UID:768d8d4ce6d372b62db945765943bbe2
CREATED;VALUE=DATE-TIME:20251230T000000Z
CATEGORIES:Agenda institucional
LOCATION:Sala annexa Alcaldia
URL:https://www.canetdemar.cat/document.php?id=28885
END:VEVENT
END:VCALENDAR