BEGIN:VCALENDAR
VERSION:2.0
PRODID:-//Plone.org//NONSGML plone.app.event//EN
X-WR-TIMEZONE:Europe/Madrid
BEGIN:VEVENT
SUMMARY:Reunió amb un veí de Canet
DTSTART;TZID=Europe/Madrid;VALUE=DATE-TIME:20251219T130000
DTEND;TZID=Europe/Madrid;VALUE=DATE-TIME:20251219T140000
DTSTAMP;VALUE=DATE-TIME:20260425T053220Z
UID:db5dfdb04bcd0a76a5324d9c204a638f
CREATED;VALUE=DATE-TIME:20251219T000000Z
CATEGORIES:Agenda institucional
LOCATION:Despatx de l'alcalde
URL:https://www.canetdemar.cat/document.php?id=28868
END:VEVENT
END:VCALENDAR