BEGIN:VCALENDAR
VERSION:2.0
PRODID:-//Plone.org//NONSGML plone.app.event//EN
X-WR-TIMEZONE:Europe/Madrid
BEGIN:VEVENT
SUMMARY:Reunió Any Forcano
DTSTART;TZID=Europe/Madrid;VALUE=DATE-TIME:20251218T120000
DTEND;TZID=Europe/Madrid;VALUE=DATE-TIME:20251218T130000
DTSTAMP;VALUE=DATE-TIME:20260425T053234Z
UID:06b61234b7de90df5ddc1d2f8793173b
CREATED;VALUE=DATE-TIME:20251218T000000Z
CATEGORIES:Agenda institucional
LOCATION:Sala annexa Alcaldia
URL:https://www.canetdemar.cat/document.php?id=28863
END:VEVENT
END:VCALENDAR