BEGIN:VCALENDAR
VERSION:2.0
PRODID:-//Plone.org//NONSGML plone.app.event//EN
X-WR-TIMEZONE:Europe/Madrid
BEGIN:VEVENT
SUMMARY:Assistència a les audicions de Nadal de l'Escola de Música
DTSTART;TZID=Europe/Madrid;VALUE=DATE-TIME:20251217T183000
DTEND;TZID=Europe/Madrid;VALUE=DATE-TIME:20251217T193000
DTSTAMP;VALUE=DATE-TIME:20260425T053723Z
UID:710caef6fe23ec0a34110049c880548b
CREATED;VALUE=DATE-TIME:20251217T000000Z
CATEGORIES:Agenda institucional
LOCATION:Escola de Música
URL:https://www.canetdemar.cat/document.php?id=28857
END:VEVENT
END:VCALENDAR