BEGIN:VCALENDAR
VERSION:2.0
PRODID:-//Plone.org//NONSGML plone.app.event//EN
X-WR-TIMEZONE:Europe/Madrid
BEGIN:VEVENT
SUMMARY:Visita institucional de Nadal a les residències Sant Roc i Miramar
DTSTART;TZID=Europe/Madrid;VALUE=DATE-TIME:20251217T113000
DTEND;TZID=Europe/Madrid;VALUE=DATE-TIME:20251217T123000
DTSTAMP;VALUE=DATE-TIME:20260423T015408Z
UID:279aaafa67f48d73de4d45bf21a0d674
CREATED;VALUE=DATE-TIME:20251217T000000Z
CATEGORIES:Agenda institucional
LOCATION:Sant Roc i Miramar
URL:https://www.canetdemar.cat/document.php?id=28855
END:VEVENT
END:VCALENDAR