BEGIN:VCALENDAR
VERSION:2.0
PRODID:-//Plone.org//NONSGML plone.app.event//EN
X-WR-TIMEZONE:Europe/Madrid
BEGIN:VEVENT
SUMMARY:Enterrament de la sardina
DTSTART;TZID=Europe/Madrid;VALUE=DATE-TIME:20070221T194500
DTEND;TZID=Europe/Madrid;VALUE=DATE-TIME:20070221T204500
DTSTAMP;VALUE=DATE-TIME:20260423T083057Z
UID:2f69b98578c51e673fee8f657da74827
CREATED;VALUE=DATE-TIME:20070221T000000Z
URL:https://www.canetdemar.cat/document.php?id=2884
END:VEVENT
END:VCALENDAR