BEGIN:VCALENDAR
VERSION:2.0
PRODID:-//Plone.org//NONSGML plone.app.event//EN
X-WR-TIMEZONE:Europe/Madrid
BEGIN:VEVENT
SUMMARY:Assistència a l'audició dels alumnes de Corda i Piano de l'Escola de Música
DTSTART;TZID=Europe/Madrid;VALUE=DATE-TIME:20251210T180000
DTEND;TZID=Europe/Madrid;VALUE=DATE-TIME:20251210T190000
DTSTAMP;VALUE=DATE-TIME:20260424T083657Z
UID:7bae32fe6cef3c3aaf745241ae3098ab
CREATED;VALUE=DATE-TIME:20251210T000000Z
CATEGORIES:Agenda institucional
LOCATION:Escola de Música
URL:https://www.canetdemar.cat/document.php?id=28839
END:VEVENT
END:VCALENDAR