BEGIN:VCALENDAR
VERSION:2.0
PRODID:-//Plone.org//NONSGML plone.app.event//EN
X-WR-TIMEZONE:Europe/Madrid
BEGIN:VEVENT
SUMMARY:Ball infantil de Carnaval
DTSTART;TZID=Europe/Madrid;VALUE=DATE-TIME:20070218T180000
DTEND;TZID=Europe/Madrid;VALUE=DATE-TIME:20070218T190000
DTSTAMP;VALUE=DATE-TIME:20260423T031547Z
UID:a26e20b91500ee40ba3cf3bf38048369
CREATED;VALUE=DATE-TIME:20070218T000000Z
URL:https://www.canetdemar.cat/document.php?id=2883
END:VEVENT
END:VCALENDAR