BEGIN:VCALENDAR
VERSION:2.0
PRODID:-//Plone.org//NONSGML plone.app.event//EN
X-WR-TIMEZONE:Europe/Madrid
BEGIN:VEVENT
SUMMARY:Berenar de Nadal Associació de la Gent Gran de l'Esplai
DTSTART;TZID=Europe/Madrid;VALUE=DATE-TIME:20251204T180000
DTEND;TZID=Europe/Madrid;VALUE=DATE-TIME:20251204T190000
DTSTAMP;VALUE=DATE-TIME:20260424T230459Z
UID:1889d4a23fca0be0226f76d3ff16f212
CREATED;VALUE=DATE-TIME:20251204T000000Z
CATEGORIES:Agenda institucional
LOCATION:Jardins de Vil.la Flora
URL:https://www.canetdemar.cat/document.php?id=28803
END:VEVENT
END:VCALENDAR