BEGIN:VCALENDAR
VERSION:2.0
PRODID:-//Plone.org//NONSGML plone.app.event//EN
X-WR-TIMEZONE:Europe/Madrid
BEGIN:VEVENT
SUMMARY:Assistència cerimònia de comiat
DTSTART;TZID=Europe/Madrid;VALUE=DATE-TIME:20251204T120000
DTEND;TZID=Europe/Madrid;VALUE=DATE-TIME:20251204T130000
DTSTAMP;VALUE=DATE-TIME:20260419T210645Z
UID:d8d377dc657d8d2e62e887dedcfbc2d6
CREATED;VALUE=DATE-TIME:20251204T000000Z
CATEGORIES:Agenda institucional
LOCATION:Església de Sant Pere i Sant Pau
URL:https://www.canetdemar.cat/document.php?id=28801
END:VEVENT
END:VCALENDAR