BEGIN:VCALENDAR
VERSION:2.0
PRODID:-//Plone.org//NONSGML plone.app.event//EN
X-WR-TIMEZONE:Europe/Madrid
BEGIN:VEVENT
SUMMARY:Rua infantil de les escoles
DTSTART;TZID=Europe/Madrid;VALUE=DATE-TIME:20070216T150000
DTEND;TZID=Europe/Madrid;VALUE=DATE-TIME:20070216T160000
DTSTAMP;VALUE=DATE-TIME:20260425T021916Z
UID:a8e13533588d9aec105c63561d564b90
CREATED;VALUE=DATE-TIME:20070216T000000Z
URL:https://www.canetdemar.cat/document.php?id=2880
END:VEVENT
END:VCALENDAR