BEGIN:VCALENDAR
VERSION:2.0
PRODID:-//Plone.org//NONSGML plone.app.event//EN
X-WR-TIMEZONE:Europe/Madrid
BEGIN:VEVENT
SUMMARY:Assistència a l'acte d'Alcaldes i Alcaldesses de Catalunya per celebrar el Mil·lenari de Montserrat
DTSTART;TZID=Europe/Madrid;VALUE=DATE-TIME:20251128T093000
DTEND;TZID=Europe/Madrid;VALUE=DATE-TIME:20251128T103000
DTSTAMP;VALUE=DATE-TIME:20260423T130557Z
UID:24a2bc84b7e841d220a665f4054db870
CREATED;VALUE=DATE-TIME:20251128T000000Z
CATEGORIES:Agenda institucional
LOCATION:Abadia de Montserrat
URL:https://www.canetdemar.cat/document.php?id=28792
END:VEVENT
END:VCALENDAR