BEGIN:VCALENDAR
VERSION:2.0
PRODID:-//Plone.org//NONSGML plone.app.event//EN
X-WR-TIMEZONE:Europe/Madrid
BEGIN:VEVENT
SUMMARY:Assistència a l'acte de lliurament dels Premis Bonal
DTSTART;TZID=Europe/Madrid;VALUE=DATE-TIME:20251126T180000
DTEND;TZID=Europe/Madrid;VALUE=DATE-TIME:20251126T190000
DTSTAMP;VALUE=DATE-TIME:20260421T160542Z
UID:763ba190f06d48173f2061abaeef3c86
CREATED;VALUE=DATE-TIME:20251126T000000Z
CATEGORIES:Agenda institucional
LOCATION:Sala de plens
URL:https://www.canetdemar.cat/document.php?id=28789
END:VEVENT
END:VCALENDAR